BEGIN:VCALENDAR
VERSION:2.0
PRODID:-//KVC Health Systems - ECPv6.15.20//NONSGML v1.0//EN
CALSCALE:GREGORIAN
METHOD:PUBLISH
X-ORIGINAL-URL:https://www.kvc.org
X-WR-CALDESC:Events for KVC Health Systems
REFRESH-INTERVAL;VALUE=DURATION:PT1H
X-Robots-Tag:noindex
X-PUBLISHED-TTL:PT1H
BEGIN:VTIMEZONE
TZID:America/Chicago
BEGIN:DAYLIGHT
TZOFFSETFROM:-0600
TZOFFSETTO:-0500
TZNAME:CDT
DTSTART:20250309T080000
END:DAYLIGHT
BEGIN:STANDARD
TZOFFSETFROM:-0500
TZOFFSETTO:-0600
TZNAME:CST
DTSTART:20251102T070000
END:STANDARD
BEGIN:DAYLIGHT
TZOFFSETFROM:-0600
TZOFFSETTO:-0500
TZNAME:CDT
DTSTART:20260308T080000
END:DAYLIGHT
BEGIN:STANDARD
TZOFFSETFROM:-0500
TZOFFSETTO:-0600
TZNAME:CST
DTSTART:20261101T070000
END:STANDARD
BEGIN:DAYLIGHT
TZOFFSETFROM:-0600
TZOFFSETTO:-0500
TZNAME:CDT
DTSTART:20270314T080000
END:DAYLIGHT
BEGIN:STANDARD
TZOFFSETFROM:-0500
TZOFFSETTO:-0600
TZNAME:CST
DTSTART:20271107T070000
END:STANDARD
END:VTIMEZONE
BEGIN:VEVENT
DTSTART;TZID=America/Chicago:20260417T190000
DTEND;TZID=America/Chicago:20260417T210000
DTSTAMP:20260421T061027
CREATED:20251216T225833Z
LAST-MODIFIED:20260417T195954Z
UID:10000282-1776452400-1776459600@www.kvc.org
SUMMARY:2026 KVC Gala: Around the World
DESCRIPTION:Update as of Friday\, April 17 at 2:30pm\nThe KVC Gala is still on\, and we’re closely monitoring the weather. Please use caution as you travel to The Abbott this evening. \nWe’ve adjusted the schedule slightly: the Patron Party will now begin at 6:30 PM\, where Jason Hooper\, KVC Health Systems President and CEO\, will recognize our top sponsors. Doors will open to all guests at 7:00 PM as normal.  \nWe look forward to seeing you—stay safe on your way! \n \nJoin KVC Health Systems for an unforgettable evening Around the World where connection\, elegance and impact come together. Chaired by Rob and Jennifer Welker\, Hoefer Welker\, and honorary chairs Brian Dunn and Mike Comer\, JE Dunn\, this premier Kansas City gala will feature exceptional cuisine\, signature cocktails\, live music and immersive experiences inspired by iconic global destinations. \nMore than a celebration\, KVC’s Around the World Gala fuels life-changing mental health care and critical support for children and families in our community. Last year\, KVC impacted 84\,922 children and families by providing hope and healing when it was needed most. \n \n6:30 PM – Patron Party Begins  \nSponsors are invited to enjoy exclusive access to our VIP lounge\, where globally inspired cocktails flow and the evening begins with a taste of destinations around the world. \n7:00 PM – Social Hour  \nCheck in at the registration table once you arrive and prepare for takeoff. Bid on once-in-a-lifetime silent auction experiences\, grab a limited-edition\, highly sought-after Surprise Box and enter the 50/50 raffle for your chance at the pot. \nThen\, enjoy a whiskey tasting from Tom’s Town Distilling Co.\, a cigar from The Shop Cigar Lounge\, get a custom design from Essential Henna and make your way through curated stops\, each inspired by global destinations. \n8:00 PM – Gala Emcee\, Neville Miller of KMBC9\, kicks off our program  \n8:15 PM – Live Auction Begins with George Nigro & The Nigro Brothers  \nWhether you’re dreaming of choosing your escape to Italy\, Portugal or Ireland\, reveling in the electric energy of a World Cup quarterfinal in Kansas City\, or unwinding during a week-long stay in Santa Fe\, these unforgettable experiences could be yours. \nPrefer something closer to home? Step into a Chiefs Broadcast Suite on the 50-yard line\, enjoy a stacked lineup of country concerts at Morton Amphitheater\, or stock your bar with a curated collection of high-end spirits. Every winning bid helps set children and families in crisis on a path toward hope and healing\, so go ahead and bid big! \n8:40 PM – Fund-A-Need \nEvery journey can change direction through a single moment of connection. Your support helps children and families move from crisis to safety\, planting roots of resilience that last. \n9:00 PM – Live Music Begins with Talya Groves \nMove through the night with an incredible live performance by Talya Groves as your backdrop. Sip\, mingle and explore from the patio to the rooftop deck\, taking in new views and fresh energy at every turn. \n9:30 PM – Silent Auction Closes \nWinners of the Silent Auction will be notified via text message. \n11:00 PM – That’s a Wrap! \n\n\nBecome a Sponsor\nSponsoring KVC’s Gala is a powerful way to align your business or family with one of Kansas City’s most respected nonprofits while making a direct impact on children’s lives. Your support helps deliver critical mental health care\, protect children from abuse and neglect\, and strengthen families before crisis occurs. \nJoin us as a Gala Sponsor and help ensure every child’s journey leads somewhere brighter. \n \nClick here for sponsorship details or contact Amanda Smasal\, asmasal@kvc.org\, 913-912-0457. \nYou may also make a donation here. \n\nThis year\, your passport unlocks more than just the night. \nEnjoy first-class access to extraordinary auction items and once-in-a-lifetime experiences\, with a preview of a few highlights below. \nGet details about all the auction items available tonight!
URL:https://www.kvc.org/event/2026-kvc-gala-around-the-world/
LOCATION:The Abbott Kansas City\, 1901 Cherry St.\, Kansas City\, MO\, 64108\, United States
CATEGORIES:Fundraising
ATTACH;FMTTYPE=image/jpeg:https://www.kvc.org/wp-content/uploads/2025/12/Gala-Social-Digital-Images-2026_Blog-Feature-1200x666-02.jpg
END:VEVENT
END:VCALENDAR